BEGIN:VCALENDAR
VERSION:2.0
PRODID:-//eventon.com NONSGML v1.0//EN
BEGIN:VEVENT
UID:69e97bbf0a7d8
DTSTAMP:20260423T035407
DTSTART:20240919T180000Z
DTEND:20240919T215000Z
LOCATION:Jeannette 
SUMMARY:aanbiddingsavond
DESCRIPTION: Om de week ontmoeten we elkaar. We willen bidden in Geest en Waarheid zoals Jezus dat zei. We maken ruimte om God te aanbidden en om te luisteren.  We bidden voor elkaar en ook voor de mensen om ons heen. Wees welkom!
END:VEVENT
END:VCALENDAR